BEGIN:VCALENDAR
VERSION:2.0
PRODID:-// Your REALTOR® Devin - ECPv6.15.20//NONSGML v1.0//EN
CALSCALE:GREGORIAN
METHOD:PUBLISH
X-WR-CALNAME: Your REALTOR® Devin
X-ORIGINAL-URL:https://toddky.com
X-WR-CALDESC:Events for  Your REALTOR® Devin
REFRESH-INTERVAL;VALUE=DURATION:PT1H
X-Robots-Tag:noindex
X-PUBLISHED-TTL:PT1H
BEGIN:VTIMEZONE
TZID:America/Halifax
BEGIN:DAYLIGHT
TZOFFSETFROM:-0400
TZOFFSETTO:-0300
TZNAME:ADT
DTSTART:20250309T060000
END:DAYLIGHT
BEGIN:STANDARD
TZOFFSETFROM:-0300
TZOFFSETTO:-0400
TZNAME:AST
DTSTART:20251102T050000
END:STANDARD
BEGIN:DAYLIGHT
TZOFFSETFROM:-0400
TZOFFSETTO:-0300
TZNAME:ADT
DTSTART:20260308T060000
END:DAYLIGHT
BEGIN:STANDARD
TZOFFSETFROM:-0300
TZOFFSETTO:-0400
TZNAME:AST
DTSTART:20261101T050000
END:STANDARD
BEGIN:DAYLIGHT
TZOFFSETFROM:-0400
TZOFFSETTO:-0300
TZNAME:ADT
DTSTART:20270314T060000
END:DAYLIGHT
BEGIN:STANDARD
TZOFFSETFROM:-0300
TZOFFSETTO:-0400
TZNAME:AST
DTSTART:20271107T050000
END:STANDARD
END:VTIMEZONE
BEGIN:VEVENT
DTSTART;TZID=America/Halifax:20260311T173000
DTEND;TZID=America/Halifax:20260425T173000
DTSTAMP:20260420T064838
CREATED:20260312T121855Z
LAST-MODIFIED:20260312T121855Z
UID:14580-1773250200-1777138200@toddky.com
SUMMARY:On The Road To Yellowstone and The Grand Tetons With The Creative Camera Club-Opening Reception
DESCRIPTION:Join us at the Berea Arts Council for the opening reception of On The Road with the Creative Camera Club on Friday\, March 13\, beginning at 5:30 PM. An artist talk will follow at 6 PM.\nThe Creative Camera Club has been an active part of the Lexington arts community for more than 50 years\, bringing together photographers at every stage of their journey\, from beginners just starting to explore the camera to seasoned professionals. This exhibition highlights the spirit of curiosity\, exploration\, and storytelling that defines the club\, featuring work that captures places\, people\, and moments discovered along the way.\nWe hope you will join us for an evening of art\, conversation\, and community as we celebrate the enduring power of photography to connect us and inspire new ways of seeing.
URL:https://toddky.com/event/on-the-road-to-yellowstone-and-the-grand-tetons-with-the-creative-camera-club-opening-reception/
LOCATION:Berea Arts Council\, 444 Chestnut St\, Berea\, KY\, 40403\, United States
CATEGORIES:Berea
ATTACH;FMTTYPE=image/jpeg:https://toddky.com/wp-content/uploads/2026/03/646335749_1346360284202444_1619737692985866776_n-1.jpg
END:VEVENT
BEGIN:VEVENT
DTSTART;TZID=America/Halifax:20260326T180000
DTEND;TZID=America/Halifax:20260430T193000
DTSTAMP:20260420T064838
CREATED:20260320T121518Z
LAST-MODIFIED:20260320T121534Z
UID:14891-1774548000-1777577400@toddky.com
SUMMARY:Beginner Pickleball (Session 1)
DESCRIPTION:PRE REGISTRATION IS REQUIRED FOR THIS EVENT\n Dive into the fast-growing world of Pickleball! With simple rules and tons of energy\, it’s perfect for beginners and quickly becomes a fun\, competitive game as your skills grow. A mix of tennis\, badminton\, and ping-pong\, Pickleball is played with paddles and a plastic ball on a modified tennis court.In this class\, you’ll learn the history of the game\, core rules\, basic skills\, and strategy for both singles and doubles. Get ready for hands-on learning\, active play\, and the kind of fun that will have you hooked in no time! \nPlease bring your own paddle. Balls will be provided.For ages 18+\nSession 1: Thursdays\, March 26 to April 30Location: Arlington Pickleball CourtsTime: 6 to 7:30 PMFee: $55\n65 years old or older? You are eligible for free registration! Call 859-622-1228 to register!
URL:https://toddky.com/event/beginner-pickleball-session-1/
LOCATION:The University Club at Arlington Pickleball Courts\, 1423 Lexington Road\, Richmond\, KY\, 40475-1059\, United States
CATEGORIES:Richmond
ATTACH;FMTTYPE=image/jpeg:https://toddky.com/wp-content/uploads/2026/03/615959167_884985181071092_1534123917165526767_n.jpg
END:VEVENT
BEGIN:VEVENT
DTSTART;TZID=America/Halifax:20260420T170000
DTEND;TZID=America/Halifax:20260420T170000
DTSTAMP:20260420T064838
CREATED:20260420T065832Z
LAST-MODIFIED:20260420T065832Z
UID:15651-1776704400-1776704400@toddky.com
SUMMARY:Level Up Lounge and Learning Center Grand Opening
DESCRIPTION:Please join us in welcoming the newest business in town! Level Up Lounge and Learning Center!We are so excited for this awesome space for our teens in Berea!
URL:https://toddky.com/event/level-up-lounge-and-learning-center-grand-opening/
LOCATION:Berea Chamber of Commerce\, 101 Jackson Street\, Berea\, KY\, 40403\, United States
CATEGORIES:Berea
ATTACH;FMTTYPE=image/jpeg:https://toddky.com/wp-content/uploads/2026/04/672672656_1401744241973133_8362679780571909173_n.jpg
END:VEVENT
BEGIN:VEVENT
DTSTART;TZID=America/Halifax:20260420T180000
DTEND;TZID=America/Halifax:20260420T190000
DTSTAMP:20260420T064838
CREATED:20260420T080558Z
LAST-MODIFIED:20260420T080558Z
UID:15703-1776708000-1776711600@toddky.com
SUMMARY:FCC Book Club Meet and Greet
DESCRIPTION:In the blue grass of Kentucky\, Beth Dotson Brown ignites a heartfelt tale of family\, and faith. Come meet this incredible local author and discuss her novel.
URL:https://toddky.com/event/fcc-book-club-meet-and-greet/
LOCATION:First Christian Church-Berea\, 206 Chestnut St\, Berea\, KY\, 40403\, United States
CATEGORIES:Berea
ATTACH;FMTTYPE=image/jpeg:https://toddky.com/wp-content/uploads/2026/04/653384903_1388431289982489_5390145228648465916_n.jpg
END:VEVENT
BEGIN:VEVENT
DTSTART;TZID=America/Halifax:20260420T183000
DTEND;TZID=America/Halifax:20260420T200000
DTSTAMP:20260420T064838
CREATED:20260323T091852Z
LAST-MODIFIED:20260413T123337Z
UID:14972-1776709800-1776715200@toddky.com
SUMMARY:Monday Trivia Night at Blue Stallion Richmond Taproom
DESCRIPTION:Trivia. Prizes. Beer. Burgers. You can’t lose.
URL:https://toddky.com/event/monday-trivia-night-at-blue-stallion-richmond-taproom-2/
LOCATION:Blue Stallion Brewing Richmond Taproom/Holler Burger\, 212 West Water Street\, Richmond\, KY\, 40475\, United States
CATEGORIES:Richmond
ATTACH;FMTTYPE=image/jpeg:https://toddky.com/wp-content/uploads/2026/03/646890649_122197586654575793_8984762234075040653_n.jpg
END:VEVENT
END:VCALENDAR