BEGIN:VCALENDAR
VERSION:2.0
PRODID:-// Your REALTOR® Devin - ECPv6.15.20//NONSGML v1.0//EN
CALSCALE:GREGORIAN
METHOD:PUBLISH
X-WR-CALNAME: Your REALTOR® Devin
X-ORIGINAL-URL:https://toddky.com
X-WR-CALDESC:Events for  Your REALTOR® Devin
REFRESH-INTERVAL;VALUE=DURATION:PT1H
X-Robots-Tag:noindex
X-PUBLISHED-TTL:PT1H
BEGIN:VTIMEZONE
TZID:America/Halifax
BEGIN:DAYLIGHT
TZOFFSETFROM:-0400
TZOFFSETTO:-0300
TZNAME:ADT
DTSTART:20250309T060000
END:DAYLIGHT
BEGIN:STANDARD
TZOFFSETFROM:-0300
TZOFFSETTO:-0400
TZNAME:AST
DTSTART:20251102T050000
END:STANDARD
BEGIN:DAYLIGHT
TZOFFSETFROM:-0400
TZOFFSETTO:-0300
TZNAME:ADT
DTSTART:20260308T060000
END:DAYLIGHT
BEGIN:STANDARD
TZOFFSETFROM:-0300
TZOFFSETTO:-0400
TZNAME:AST
DTSTART:20261101T050000
END:STANDARD
BEGIN:DAYLIGHT
TZOFFSETFROM:-0400
TZOFFSETTO:-0300
TZNAME:ADT
DTSTART:20270314T060000
END:DAYLIGHT
BEGIN:STANDARD
TZOFFSETFROM:-0300
TZOFFSETTO:-0400
TZNAME:AST
DTSTART:20271107T050000
END:STANDARD
END:VTIMEZONE
BEGIN:VEVENT
DTSTART;TZID=America/Halifax:20260311T173000
DTEND;TZID=America/Halifax:20260425T173000
DTSTAMP:20260421T015323
CREATED:20260312T121855Z
LAST-MODIFIED:20260312T121855Z
UID:14580-1773250200-1777138200@toddky.com
SUMMARY:On The Road To Yellowstone and The Grand Tetons With The Creative Camera Club-Opening Reception
DESCRIPTION:Join us at the Berea Arts Council for the opening reception of On The Road with the Creative Camera Club on Friday\, March 13\, beginning at 5:30 PM. An artist talk will follow at 6 PM.\nThe Creative Camera Club has been an active part of the Lexington arts community for more than 50 years\, bringing together photographers at every stage of their journey\, from beginners just starting to explore the camera to seasoned professionals. This exhibition highlights the spirit of curiosity\, exploration\, and storytelling that defines the club\, featuring work that captures places\, people\, and moments discovered along the way.\nWe hope you will join us for an evening of art\, conversation\, and community as we celebrate the enduring power of photography to connect us and inspire new ways of seeing.
URL:https://toddky.com/event/on-the-road-to-yellowstone-and-the-grand-tetons-with-the-creative-camera-club-opening-reception/
LOCATION:Berea Arts Council\, 444 Chestnut St\, Berea\, KY\, 40403\, United States
CATEGORIES:Berea
ATTACH;FMTTYPE=image/jpeg:https://toddky.com/wp-content/uploads/2026/03/646335749_1346360284202444_1619737692985866776_n-1.jpg
END:VEVENT
BEGIN:VEVENT
DTSTART;TZID=America/Halifax:20260326T180000
DTEND;TZID=America/Halifax:20260430T193000
DTSTAMP:20260421T015323
CREATED:20260320T121518Z
LAST-MODIFIED:20260320T121534Z
UID:14891-1774548000-1777577400@toddky.com
SUMMARY:Beginner Pickleball (Session 1)
DESCRIPTION:PRE REGISTRATION IS REQUIRED FOR THIS EVENT\n Dive into the fast-growing world of Pickleball! With simple rules and tons of energy\, it’s perfect for beginners and quickly becomes a fun\, competitive game as your skills grow. A mix of tennis\, badminton\, and ping-pong\, Pickleball is played with paddles and a plastic ball on a modified tennis court.In this class\, you’ll learn the history of the game\, core rules\, basic skills\, and strategy for both singles and doubles. Get ready for hands-on learning\, active play\, and the kind of fun that will have you hooked in no time! \nPlease bring your own paddle. Balls will be provided.For ages 18+\nSession 1: Thursdays\, March 26 to April 30Location: Arlington Pickleball CourtsTime: 6 to 7:30 PMFee: $55\n65 years old or older? You are eligible for free registration! Call 859-622-1228 to register!
URL:https://toddky.com/event/beginner-pickleball-session-1/
LOCATION:The University Club at Arlington Pickleball Courts\, 1423 Lexington Road\, Richmond\, KY\, 40475-1059\, United States
CATEGORIES:Richmond
ATTACH;FMTTYPE=image/jpeg:https://toddky.com/wp-content/uploads/2026/03/615959167_884985181071092_1534123917165526767_n.jpg
END:VEVENT
BEGIN:VEVENT
DTSTART;TZID=America/Halifax:20260421T170000
DTEND;TZID=America/Halifax:20260421T200000
DTSTAMP:20260421T015323
CREATED:20260406T140658Z
LAST-MODIFIED:20260420T100416Z
UID:15291-1776790800-1776801600@toddky.com
SUMMARY:Tasty Tuesdays presents Lauren Mink & Dale Adams
DESCRIPTION:Join us for Tasty Tuesdays April – September\, from 5:00 – 8:00 PM at Irvine-McDowell Park (except for June 30th)!\nLive music begins at 6:00 PM.\nWe are excited to partner with the Madison County Farmers Market again this season\, who will be setting up weekly at Tasty Tuesdays!\nNEW IN 2026! Richmond Drum Circle\, Sponsored by Sanjay BlevinsFirst Tuesday of the Month\, May – September | 5:15 – 5:50 PMJoin us for a FREE community drop-in drum circle! Bring a chair and create a beat! Sanjay Blevins\, a 21-year-old young man with Down Syndrome\, has been awarded a Community Involvement Grant. The purpose of the grant is to develop a project centered around a passion that Sanjay has in order to foster inclusion in the community in which he lives.\nNOTE: Lancaster Ave Lot will be OPEN during Tasty Tuesdays. There is additional parking in the EKU Adam’s Lot and in the EKU Crabbe Street Lot.\nStay tuned on social media @richmondkyparks for weekly lineups and weather updates.\nQuestions? Call (859) 623 – 8753 or email parksandrec@richmondky.gov
URL:https://toddky.com/event/tasty-tuesdays/
LOCATION:Richmond Parks & Recreation\, 345 Landcaster Avenue\, Richmond\, KY\, 40475\, United States
CATEGORIES:Richmond
ATTACH;FMTTYPE=image/jpeg:https://toddky.com/wp-content/uploads/2026/04/656089077_1395308635973029_8433440683311456165_n-1.jpg
END:VEVENT
BEGIN:VEVENT
DTSTART;TZID=America/Halifax:20260421T173000
DTEND;TZID=America/Halifax:20260421T173000
DTSTAMP:20260421T015323
CREATED:20260420T070225Z
LAST-MODIFIED:20260420T070225Z
UID:15657-1776792600-1776792600@toddky.com
SUMMARY:MSHS FFA Alumni & Supporters Meeting
DESCRIPTION:Monthly Planning Meeting-Clark’s Classroom
URL:https://toddky.com/event/mshs-ffa-alumni-supporters-meeting/
LOCATION:Madison Southern FFA Alumni & Supporters\, 279 Glades Road\, Berea\, KY\, 40403\, United States
CATEGORIES:Berea
ATTACH;FMTTYPE=image/jpeg:https://toddky.com/wp-content/uploads/2026/04/671064350_122148600524989198_8536296412851213687_n.jpg
END:VEVENT
BEGIN:VEVENT
DTSTART;TZID=America/Halifax:20260421T180000
DTEND;TZID=America/Halifax:20260421T200000
DTSTAMP:20260421T015323
CREATED:20260420T091025Z
LAST-MODIFIED:20260420T091025Z
UID:15707-1776794400-1776801600@toddky.com
SUMMARY:Showers of Flowers Canvas Paint Party
DESCRIPTION:When you combine April showers with May flowers\, you get Showers of Flowers! Join us in painting this darling Spring canvas painting and add creativity and color to any room in your home! Choose your favorite color palette and your canvas size: 12″ x 16″ and 16″ x 20″.Don’t be concerned! This a very easy painting to paint! We pre-draw the image on the canvas for you and we walk you through the painting process step-by-step. No drawing or painting skills required! You can do it!!!!Scan the QR Code or register at www.PaintPartiesPlus.com.
URL:https://toddky.com/event/showers-of-flowers-canvas-paint-party/
LOCATION:Just Love Coffee Cafe – Berea\, 636 Chestnut St.\, Berea\, KY\, United States
CATEGORIES:Berea
ATTACH;FMTTYPE=image/jpeg:https://toddky.com/wp-content/uploads/2026/04/658157127_122346590762004129_4299788354256421181_n.jpg
END:VEVENT
BEGIN:VEVENT
DTSTART;TZID=America/Halifax:20260421T193000
DTEND;TZID=America/Halifax:20260421T193000
DTSTAMP:20260421T015323
CREATED:20260420T065519Z
LAST-MODIFIED:20260420T065519Z
UID:15645-1776799800-1776799800@toddky.com
SUMMARY:Wind Ensemble
DESCRIPTION:Welcome the season with the Wind Ensemble’s Annual Spring Concert! \nUnder the direction of Dr. Colby Norton\, this program features works by John Mackey and Eric Whitacre\, along with selections for full band\, woodwind\, and percussion ensemble. Join us for an evening of vibrant and expressive music!\n Tuesday\, April 21\, 2026 7:30p Gray Auditorium\, Presser Hall\n Free and open to the public!
URL:https://toddky.com/event/wind-ensemble/
LOCATION:Gray Auditorium\, Presser Hall\, 101 Chestnut Street\, Berea\, KY\, 40403\, United States
CATEGORIES:Berea
ATTACH;FMTTYPE=image/jpeg:https://toddky.com/wp-content/uploads/2026/04/670436918_1546590997468908_4515697997780157348_n.jpg
END:VEVENT
END:VCALENDAR