BEGIN:VCALENDAR
VERSION:2.0
PRODID:-// Your REALTOR® Devin - ECPv6.15.20//NONSGML v1.0//EN
CALSCALE:GREGORIAN
METHOD:PUBLISH
X-WR-CALNAME: Your REALTOR® Devin
X-ORIGINAL-URL:https://toddky.com
X-WR-CALDESC:Events for  Your REALTOR® Devin
REFRESH-INTERVAL;VALUE=DURATION:PT1H
X-Robots-Tag:noindex
X-PUBLISHED-TTL:PT1H
BEGIN:VTIMEZONE
TZID:America/Halifax
BEGIN:DAYLIGHT
TZOFFSETFROM:-0400
TZOFFSETTO:-0300
TZNAME:ADT
DTSTART:20250309T060000
END:DAYLIGHT
BEGIN:STANDARD
TZOFFSETFROM:-0300
TZOFFSETTO:-0400
TZNAME:AST
DTSTART:20251102T050000
END:STANDARD
BEGIN:DAYLIGHT
TZOFFSETFROM:-0400
TZOFFSETTO:-0300
TZNAME:ADT
DTSTART:20260308T060000
END:DAYLIGHT
BEGIN:STANDARD
TZOFFSETFROM:-0300
TZOFFSETTO:-0400
TZNAME:AST
DTSTART:20261101T050000
END:STANDARD
BEGIN:DAYLIGHT
TZOFFSETFROM:-0400
TZOFFSETTO:-0300
TZNAME:ADT
DTSTART:20270314T060000
END:DAYLIGHT
BEGIN:STANDARD
TZOFFSETFROM:-0300
TZOFFSETTO:-0400
TZNAME:AST
DTSTART:20271107T050000
END:STANDARD
END:VTIMEZONE
BEGIN:VEVENT
DTSTART;TZID=America/Halifax:20260308T180000
DTEND;TZID=America/Halifax:20260328T180000
DTSTAMP:20260420T052640
CREATED:20260304T150607Z
LAST-MODIFIED:20260304T150607Z
UID:14431-1772992800-1774720800@toddky.com
SUMMARY:Abolition Now! Let's Get Free Permanent Collection Exhibit Opening
DESCRIPTION:Let’s Get Free’s Permanent Collection is on the move with their first out-of-state showing! This newly named exhibition –– Abolition Now! –– is a collaboration with Dr. dp patrick’s course of the same name and Rebel Rebel Studio & Lounge in Berea\, KY.\nThis unique showing of the Permanent Collection opens at Rebel Rebel (440 Chestnut Street\, Berea\, KY) on March 8th (International Women’s Day) with a community dinner and gallery tour. The exhibition closes on March 28th with a celebration and dance party. The exhibition will be displaying some of the Permanent Collection art on a site-specific installation of doors constructed to the size of a solitary confinement cell. A variety of public events and pop-ups will take place throughout the exhibition\, so stay tuned to Rebel Rebel’s Instagram and sign up here for updates via text/email.\nFor questions regarding the exhibition or if you want to schedule a tour/propose an event contact AbolitionNowKY@proton.me.This collaboration is possible\, in part\, through support from Project Pericles and the Department of Women’s\, Gender\, and Sexuality Studies at Berea College at Berea College\, which you can also find on Instagram.\nWe are so excited to see you in Kentucky this March!
URL:https://toddky.com/event/abolition-now-lets-get-free-permanent-collection-exhibit-opening/
LOCATION:Rebel Rebel Studio & Lounge\, 440 Chestnut Street\, Berea\, KY\, 40403\, United States
CATEGORIES:Berea
ATTACH;FMTTYPE=image/jpeg:https://toddky.com/wp-content/uploads/2026/03/632916686_1473109301485515_1677764168651902237_n.jpg
END:VEVENT
BEGIN:VEVENT
DTSTART;TZID=America/Halifax:20260311T173000
DTEND;TZID=America/Halifax:20260425T173000
DTSTAMP:20260420T052640
CREATED:20260312T121855Z
LAST-MODIFIED:20260312T121855Z
UID:14580-1773250200-1777138200@toddky.com
SUMMARY:On The Road To Yellowstone and The Grand Tetons With The Creative Camera Club-Opening Reception
DESCRIPTION:Join us at the Berea Arts Council for the opening reception of On The Road with the Creative Camera Club on Friday\, March 13\, beginning at 5:30 PM. An artist talk will follow at 6 PM.\nThe Creative Camera Club has been an active part of the Lexington arts community for more than 50 years\, bringing together photographers at every stage of their journey\, from beginners just starting to explore the camera to seasoned professionals. This exhibition highlights the spirit of curiosity\, exploration\, and storytelling that defines the club\, featuring work that captures places\, people\, and moments discovered along the way.\nWe hope you will join us for an evening of art\, conversation\, and community as we celebrate the enduring power of photography to connect us and inspire new ways of seeing.
URL:https://toddky.com/event/on-the-road-to-yellowstone-and-the-grand-tetons-with-the-creative-camera-club-opening-reception/
LOCATION:Berea Arts Council\, 444 Chestnut St\, Berea\, KY\, 40403\, United States
CATEGORIES:Berea
ATTACH;FMTTYPE=image/jpeg:https://toddky.com/wp-content/uploads/2026/03/646335749_1346360284202444_1619737692985866776_n-1.jpg
END:VEVENT
BEGIN:VEVENT
DTSTART;TZID=America/Halifax:20260314T170000
DTEND;TZID=America/Halifax:20260321T170000
DTSTAMP:20260420T052640
CREATED:20260309T141622Z
LAST-MODIFIED:20260309T141622Z
UID:14523-1773507600-1774112400@toddky.com
SUMMARY:Brewing Intention
DESCRIPTION:Join us on March 14th and March 21st at 5 PM for Your Perfect Drink Aligned with Intention\, a unique and uplifting experience hosted by Sapphire Rising at Just Love Coffee Cafe – Berea. Explore flavor qualities\, how you can align them with your intentions\, and transform your beverage into an act of embodied intention. Space is limited\, and registration is required through Sapphire Rising.
URL:https://toddky.com/event/brewing-intention/
LOCATION:Just Love Coffee Cafe – Berea\, 636 Chestnut St.\, Berea\, KY\, United States
CATEGORIES:Berea
ATTACH;FMTTYPE=image/jpeg:https://toddky.com/wp-content/uploads/2026/03/642712773_922131413903602_6535289944896114098_n.jpg
END:VEVENT
BEGIN:VEVENT
DTSTART;TZID=America/Halifax:20260314T203000
DTEND;TZID=America/Halifax:20260322T223000
DTSTAMP:20260420T052640
CREATED:20260302T112709Z
LAST-MODIFIED:20260309T142637Z
UID:14304-1773520200-1774218600@toddky.com
SUMMARY:A Murder is announced
DESCRIPTION:The Spotlight Playhouse\, KY\, 40403Friday\, March 6 2026 – Saturday\, March 14 2026\nStep into the quiet English village of Chipping Cleghorn\, where suspense and intrigue await! When a mysterious announcement appears in the local newspaper\, the residents are stunned to read that a murder will take place at Miss Blacklock’s home that very evening. What begins as a curious gathering quickly turns deadly\, and it’s up to the legendary Miss Marple to unravel the tangled web of secrets\, motives\, and hidden identities.\nA Murder Is Announced is one of Agatha Christie’s classic Miss Marple mysteries—filled with clever twists\, colorful characters\, and a satisfying whodunit that will keep audiences guessing until the very end. Don’t miss your chance to experience this timeless tale of suspense and deduction brought to life on stage!\nJoin us at The Spotlight Playhouse for an unforgettable night of classic mystery.\nPresented by the Bluegrass Players\nDirector Jeremy Grant—a founding member of the Bluegrass Players and Director of Theatre at Madison Southern High School—is thrilled to bring Agatha Christie back to The Spotlight Playhouse stage!
URL:https://toddky.com/event/a-murder-is-announced/
LOCATION:The Spotlight Playhouse\, 214 Richmond Road North\, Berea\, KY\, 40403\, United States
CATEGORIES:Berea
ATTACH;FMTTYPE=image/jpeg:https://toddky.com/wp-content/uploads/2026/03/632621482_1513619277433887_1698511396101833223_n.jpg
END:VEVENT
BEGIN:VEVENT
DTSTART;TZID=America/Halifax:20260320T200000
DTEND;TZID=America/Halifax:20260328T220000
DTSTAMP:20260420T052640
CREATED:20260316T124832Z
LAST-MODIFIED:20260316T124832Z
UID:14753-1774036800-1774735200@toddky.com
SUMMARY:Murder on the 518
DESCRIPTION:The Spotlight Playhouse\, KY\, 40403Friday\, March 20 2026 – Saturday\, March 28 2026\nBy Michelle Giles\nPresented by: The Bluegrass Players\nRed-eye travelers on the westbound 518 are in for a surprise when first one passenger\, and then another\, mysteriously drop dead right before their eyes! Stranded on a train with a killer on the loose\, this eclectic group of passengers must work together to solve the mystery before they reach the station.\nNot everything—or everyone—is as it seems in this family-friendly murder mystery full of twists\, turns\, and teamwork. With all the usual suspects and plenty of surprises along the way\, audiences will be kept guessing right up until the train pulls into the station.\nDirector John Bailey returns to The Spotlight Playhouse stage following his successful debut directing Marian and Her Merry Men. Under his creative vision\, this thrilling whodunit promises to keep you on the edge of your seat!\nHold on tight—Murder on the 518 is quite the ride!
URL:https://toddky.com/event/murder-on-the-518/
LOCATION:The Spotlight Playhouse\, 214 Richmond Road North\, Berea\, KY\, 40403\, United States
CATEGORIES:Berea
ATTACH;FMTTYPE=image/jpeg:https://toddky.com/wp-content/uploads/2026/03/633758312_1513634054099076_9014259252252464175_n.jpg
END:VEVENT
BEGIN:VEVENT
DTSTART;TZID=America/Halifax:20260321T090000
DTEND;TZID=America/Halifax:20260321T120000
DTSTAMP:20260420T052640
CREATED:20260316T111524Z
LAST-MODIFIED:20260316T111524Z
UID:14704-1774083600-1774094400@toddky.com
SUMMARY:Free Community Easter Egg Hunt at Tumble Shine Athletics!
DESCRIPTION:Join us for a fun-filled morning of Easter excitement at our FREE Community Easter Egg Hunt — perfect for families with young children!\n Saturday\, March 21st 9:00 AM – 12:00 PM Tumble Shine Athletics | 60 Old Wallaceton Rd\, Berea\, KY Ages 12 & Under\n Event Details:• Easter eggs are PRE-FILLED with candy\, stickers\, toys\, and surprises• Each age group will have PRIZE EGGS • Separate age-group hunts to keep things safe and fun for everyone• A great way for kids to make friends\, stay active\, and celebrate Easter!\n IMPORTANT REGISTRATION INFO: Families MUST pre-register Children must be registered in their correct age group Walk-ins cannot be guaranteed eggs\nThis event is FREE\, but space is limited to ensure a great experience for every child!\n RSVP and register today at TumbleShine.com Questions? Call/Text (859) 800-2872\nWe can’t wait to celebrate Easter with your family! 
URL:https://toddky.com/event/free-community-easter-egg-hunt-at-tumble-shine-athletics/
LOCATION:Tumble Shine Athletics\, 60 Old Wallaceton Rd\, Berea\, KY\, 40403\, United States
CATEGORIES:Berea
ATTACH;FMTTYPE=image/jpeg:https://toddky.com/wp-content/uploads/2026/03/630689117_1299414605541140_808692125158189153_n.jpg
END:VEVENT
BEGIN:VEVENT
DTSTART;TZID=America/Halifax:20260321T110000
DTEND;TZID=America/Halifax:20260321T130000
DTSTAMP:20260420T052640
CREATED:20260319T162320Z
LAST-MODIFIED:20260319T162320Z
UID:14812-1774090800-1774098000@toddky.com
SUMMARY:Ever After Jubilee
DESCRIPTION:Join the library\, Berea Parks & Rec\, and Winterberry Studios for an afternoon of magic and fairy tales!\nWe will have stations to make your own puppets\, magic wands\, photo opportunities\, and a pop-up library with a variety of children’s books to check out. We will also have some of your favorite fairy tale characters.
URL:https://toddky.com/event/ever-after-jubilee/
LOCATION:Madison County Public Library – Berea\, 319 Chestnut Street\, Berea\, KY\, 40403\, United States
CATEGORIES:Berea
ATTACH;FMTTYPE=image/jpeg:https://toddky.com/wp-content/uploads/2026/03/653950139_1372018608287058_5967265205258909982_n.jpg
END:VEVENT
BEGIN:VEVENT
DTSTART;TZID=America/Halifax:20260321T110000
DTEND;TZID=America/Halifax:20260321T170000
DTSTAMP:20260420T052640
CREATED:20260320T181030Z
LAST-MODIFIED:20260320T181047Z
UID:14903-1774090800-1774112400@toddky.com
SUMMARY:Old Town Easter Chocolate Hop
DESCRIPTION: Old Town Easter Chocolate Hop \n\n\n\n\n\n\n\nCelebrate spring with a sweet adventure through Old Town Berea! Bring your Easter basket and hop from shop to shop collecting chocolate treats and surprises along the way.\nAt each stop you’ll collect delicious treats. Adults and kids receive different chocolate selections\, so everyone gets something special!\n Buy your ticket here:https://gooddeedscraftchocolate.com/collections/all\nParticipating Locations & Activities!*Maddox Made – Easter Bunny Photos*Fire & Fern Glass Studio – Kids Walk-in Glass Egg Class: 10 minutes/$25*Top Drawer Gallery- Meet Stanley the Shop Mascot*Mary Lou’s Book Shop – (Free) Face Painting: 12–3pm*Berea Arts Council – (Free) Kids Art Activity*Nicolette’s Nostalgia – (Free) Egg Dyeing: 12-2pm*Kentucky Guild of Artists & Craftsmen- (Free) Second Nature Exhibit\nEgg Hunt and Easter Bunny in Old Town!The Easter bunny will make a special appearance to sprinkle eggs in Old Town from 12-3pm. Keep a look-out for them around the storefronts of participating shops.\nGolden Hour Salon will have a festive display in their green-space and eggs hidden for hunters! (Free)\n Adult Tickets: $25Treats Include:Bourbon truffle\, Bailey’s truffle\, chocolate covered strawberry\, marshmallow cream bonbon\, fudge\, chocolate turtle\, peanut crunch bite\, and a small cookie.\n Kids Tickets: $13Treats Include:Chocolate bunnies\, chocolate covered graham bunnies\, chocolate covered pretzels\, chocolate turtle\, chocolate covered strawberry\, fudge\, peanut butter crunch bite\, and a small cookie.\nYou can purchase an adult/kid combo ticket bundle for $35.\n Prize Drawing!Visit every location and you will be entered to win a basket featuring goodies from the participating businesses and studios.\nKids can win:• A large hollow chocolate bunny• A large hollow chocolate egg\nBe sure to check each shop for specials\, activities\, and Easter fun throughout the day.\n Get your tickets:https://gooddeedscraftchocolate.com/collections/all
URL:https://toddky.com/event/14903/
LOCATION:Old Town Artisan Village\, N. Broadway Street\, Berea\, KY\, 40403\, United States
CATEGORIES:Berea
ATTACH;FMTTYPE=image/jpeg:https://toddky.com/wp-content/uploads/2026/03/651751563_1571489301643273_7099695085852577452_n.jpg
END:VEVENT
BEGIN:VEVENT
DTSTART;TZID=America/Halifax:20260321T120000
DTEND;TZID=America/Halifax:20260321T120000
DTSTAMP:20260420T052640
CREATED:20260316T124658Z
LAST-MODIFIED:20260316T124658Z
UID:14749-1774094400-1774094400@toddky.com
SUMMARY:Community Herbs Garden Collaboration Initiative
DESCRIPTION:The Community Herb Garden Collaboration Initiative is currently underway. Registered participants\, please visit the Farm Stand at 900 Gabbardtown Rd to obtain the sign-up sheet and receive your seeds. As scheduled\, I will meet you there. To register\, please send a private message.
URL:https://toddky.com/event/community-herbs-garden-collaboration-initiative-2/
LOCATION:Backyard Herbal Farm Stand\, 898 Gabbardtown Road\, Berea\, KY\, 40403-2251\, United States
CATEGORIES:Berea
ATTACH;FMTTYPE=image/jpeg:https://toddky.com/wp-content/uploads/2026/03/651912796_906870318793875_7705451294695955293_n.jpg
END:VEVENT
BEGIN:VEVENT
DTSTART;TZID=America/Halifax:20260321T140000
DTEND;TZID=America/Halifax:20260321T140000
DTSTAMP:20260420T052640
CREATED:20260320T105903Z
LAST-MODIFIED:20260320T105903Z
UID:14827-1774101600-1774101600@toddky.com
SUMMARY:Annie the Musical (Age 11-Adult) Auditions
DESCRIPTION:We are proud to have our banking partner CG Bank as the lead sponsor of this production.\nPerformances:May 15–17 (1st Cast) & May 22–24 (2nd Cast)Location: The Spotlight Playhouse\, Berea\, KY\nWho Can Audition:\nAges 11–adultChildren enrolled in Annie Kids at Spotlight Acting School (ages 4–11) may also audition for Annie the Musical regardless of age (casting and roles are not guaranteed).Audition Date:March 21 at 2:00 p.m.\nAbout the Show:Annie the Musical follows the adventures of the plucky orphan Annie as she finds a new family with billionaire Oliver Warbucks\, his secretary Grace Farrell\, and a lovable dog named Sandy. Featuring classic songs like “Tomorrow” and “It’s the Hard Knock Life\,” Annie is a heartwarming show for performers and audiences of all ages.\nRehearsal Schedule:\nSundays\, Mondays\, and Thursdays (as called)Only major leads will be called three days a week; most cast will have fewer rehearsals17 rehearsals scheduled—this is a full-length musical with a focused\, 6-week commitmentCreative Team:\nDirector: Chad HembreeMusic Director: Letha HembreeOpen Production Positions:\nChoreographersStage ManagerAssistant DirectorCostumerMain Characters:\nAnnie (young orphan\, optimistic and brave)Oliver Warbucks (wealthy businessman)Grace Farrell (Warbucks’ secretary)Miss Hannigan (head of the orphanage)Rooster Hannigan (Miss Hannigan’s brother)Lily St. Regis (Rooster’s girlfriend)Sandy (Annie’s dog)The Orphans (Molly\, Pepper\, Duffy\, July\, Tessie\, Kate)President Franklin D. RooseveltDrake (Warbucks’ butler)Mrs. Pugh (Warbucks’ cook)Bundles (laundry man)Bert Healy (radio announcer)The Boylan Sisters (radio singers)Louis Howe (Roosevelt’s aide)Ensemble Opportunities:There are many ensemble roles for adults\, teens\, and tweens—including staff\, New Yorkers\, radio personalities\, cabinet members\, and more.We may cast two full casts if turnout allows\, so there will be lots of opportunities for featured and ensemble roles!\nAbout the Bluegrass PlayersThe Bluegrass Players is the resident community theater company at The Spotlight Playhouse in Berea\, KY. Our mission is to bring quality theatrical productions to the region while providing opportunities for performers of all ages and experience levels. As a volunteer-driven organization\, we are dedicated to fostering a supportive\, inclusive\, and creative environment for our cast\, crew\, and audiences.\nThe Bluegrass Players proudly support Spotlight Acting School by mentoring young performers\, collaborating on productions\, and helping to make theater accessible for everyone. Our productions help fund scholarships\, provide technical resources\, and create a bridge between youth and adult performers. Whether you’re new to the stage or a seasoned actor\, you’ll find a welcoming home with the Bluegrass Players!\nQuestions or Interested in a Production Role?Contact Chad at chad@spotlightactingschool.com or 859-756-0011.
URL:https://toddky.com/event/annie-the-musical-age-11-adult-auditions/
LOCATION:The Spotlight Playhouse\, 214 Richmond Road North\, Berea\, KY\, 40403\, United States
CATEGORIES:Berea
ATTACH;FMTTYPE=image/jpeg:https://toddky.com/wp-content/uploads/2026/03/652608366_1551697440209873_2774055177108736220_n-1.jpg
END:VEVENT
BEGIN:VEVENT
DTSTART;TZID=America/Halifax:20260321T170000
DTEND;TZID=America/Halifax:20260321T190000
DTSTAMP:20260420T052640
CREATED:20260320T111248Z
LAST-MODIFIED:20260320T111248Z
UID:14856-1774112400-1774119600@toddky.com
SUMMARY:NLC KY Berea Social Hour
DESCRIPTION:Calling all NLC-KY Berea alumni and friends ! Join the 2026 Cohort for a social hour at Rebel Rebel Studio & Lounge. Drop in for a few minutes or stay the entire time\, we’d love to see you!
URL:https://toddky.com/event/nlc-ky-berea-social-hour/
LOCATION:Rebel Rebel Studio & Lounge\, 440 Chestnut Street\, Berea\, KY\, 40403\, United States
CATEGORIES:Berea
ATTACH;FMTTYPE=image/jpeg:https://toddky.com/wp-content/uploads/2026/03/654306538_1376354484523864_4567996313267458817_n.jpg
END:VEVENT
BEGIN:VEVENT
DTSTART;TZID=America/Halifax:20260321T190000
DTEND;TZID=America/Halifax:20260321T190000
DTSTAMP:20260420T052640
CREATED:20260316T122547Z
LAST-MODIFIED:20260316T122547Z
UID:14734-1774119600-1774119600@toddky.com
SUMMARY:The Jenkins Twins | Jaded Ravins | Kathryn Brooks
DESCRIPTION:Jaded RavinsJaded Ravins is the Nashville-based husband-and-wife duo of Kelly Ravin and Halle Jade — Kelly\, formerly the lead singer and guitarist of Waylon Speed\, now channels his soulful Americana and country rock originals alongside Halle’s rich harmonies and powerful vocals. Described by fans as a modern-day Johnny and June\, they play with an intimacy and directness that strips every song down to what matters — thoughtful stories and nothing unnecessary. From backcountry bars to big-city clubs\, they pour their hearts out every single time.\nThe Jenkins TwinsTrevor and Trenton Jenkins are twin brothers from Irvine\, Kentucky\, making what they call “cosmic Americana” — a sound that bridges indie folk sensibility with the golden-age spirit of Roy Orbison\, the Everly Brothers\, and Bruce Springsteen. Raised on the Red Lick Bluegrass Festival and brother harmony groups\, they’ve built a deeply cohesive sound rooted in Appalachian tradition but reaching toward something cinematic and new. Their lush vocal harmonies and yearning romanticism are\, quite simply\, the kind of thing that only comes from people who’ve been singing together their whole lives.\nKathryn BrooksKathryn Brooks is a Louisville-based folk Americana and country singer-songwriter whose music grows directly from her Kentucky roots\, shaped by years of moving from California to the East Coast to New York City before coming home to record and perform. A multi-instrumentalist and dulcimer teacher at the Louisville Folk School\, her songs are quietly intimate\, with a slide guitar touch and a storyteller’s instinct for what romance and place do to a person. Her debut EP Last Looks announced her as a genuinely distinctive voice in the regional folk scene.\n$15 Tickets.7pm Doors. 7:30 Music
URL:https://toddky.com/event/the-jenkins-twins-jaded-ravins-kathryn-brooks/
LOCATION:Rebel Rebel Studio & Lounge\, 440 Chestnut Street\, Berea\, KY\, 40403\, United States
CATEGORIES:Berea
ATTACH;FMTTYPE=image/jpeg:https://toddky.com/wp-content/uploads/2026/03/650772431_1501233848673060_6696288116258298041_n.jpg
END:VEVENT
BEGIN:VEVENT
DTSTART;TZID=America/Halifax:20260321T193000
DTEND;TZID=America/Halifax:20260321T193000
DTSTAMP:20260420T052640
CREATED:20260320T110611Z
LAST-MODIFIED:20260320T110611Z
UID:14852-1774121400-1774121400@toddky.com
SUMMARY:BWA Rolling Roadshow! First Stop\, Berea!
DESCRIPTION:Indoor Rolling Session\, Friday 7:30 pm at the Seabury Center in Berea. Totally Free Event!\nEvent link\, check the BWA Events page for further details and updates: https://www.bluegrasswildwater.org/events\n313 N Main StBerea\, KY 40404\nSee website for details and site map. Park in designated area and come in the back with your CLEAN boat. No need to pay at the front desk.BOATS MUST BE CLEAN. Please rinse out your boat and then rinse it again before loading it for any pool session.
URL:https://toddky.com/event/bwa-rolling-roadshow-first-stop-berea/
LOCATION:The Seabury Center at Berea College\, 599 N Main St\, Berea\, KY\, 40403\, United States
CATEGORIES:Berea
ATTACH;FMTTYPE=image/jpeg:https://toddky.com/wp-content/uploads/2026/03/651397632_1315046080657517_7520862594667884200_n.jpg
END:VEVENT
END:VCALENDAR