BEGIN:VCALENDAR
VERSION:2.0
PRODID:-// Your REALTOR® Devin - ECPv6.15.20//NONSGML v1.0//EN
CALSCALE:GREGORIAN
METHOD:PUBLISH
X-ORIGINAL-URL:https://toddky.com
X-WR-CALDESC:Events for  Your REALTOR® Devin
REFRESH-INTERVAL;VALUE=DURATION:PT1H
X-Robots-Tag:noindex
X-PUBLISHED-TTL:PT1H
BEGIN:VTIMEZONE
TZID:America/Halifax
BEGIN:DAYLIGHT
TZOFFSETFROM:-0400
TZOFFSETTO:-0300
TZNAME:ADT
DTSTART:20250309T060000
END:DAYLIGHT
BEGIN:STANDARD
TZOFFSETFROM:-0300
TZOFFSETTO:-0400
TZNAME:AST
DTSTART:20251102T050000
END:STANDARD
BEGIN:DAYLIGHT
TZOFFSETFROM:-0400
TZOFFSETTO:-0300
TZNAME:ADT
DTSTART:20260308T060000
END:DAYLIGHT
BEGIN:STANDARD
TZOFFSETFROM:-0300
TZOFFSETTO:-0400
TZNAME:AST
DTSTART:20261101T050000
END:STANDARD
BEGIN:DAYLIGHT
TZOFFSETFROM:-0400
TZOFFSETTO:-0300
TZNAME:ADT
DTSTART:20270314T060000
END:DAYLIGHT
BEGIN:STANDARD
TZOFFSETFROM:-0300
TZOFFSETTO:-0400
TZNAME:AST
DTSTART:20271107T050000
END:STANDARD
END:VTIMEZONE
BEGIN:VEVENT
DTSTART;TZID=America/Halifax:20260308T180000
DTEND;TZID=America/Halifax:20260328T180000
DTSTAMP:20260420T052814
CREATED:20260304T150607Z
LAST-MODIFIED:20260304T150607Z
UID:14431-1772992800-1774720800@toddky.com
SUMMARY:Abolition Now! Let's Get Free Permanent Collection Exhibit Opening
DESCRIPTION:Let’s Get Free’s Permanent Collection is on the move with their first out-of-state showing! This newly named exhibition –– Abolition Now! –– is a collaboration with Dr. dp patrick’s course of the same name and Rebel Rebel Studio & Lounge in Berea\, KY.\nThis unique showing of the Permanent Collection opens at Rebel Rebel (440 Chestnut Street\, Berea\, KY) on March 8th (International Women’s Day) with a community dinner and gallery tour. The exhibition closes on March 28th with a celebration and dance party. The exhibition will be displaying some of the Permanent Collection art on a site-specific installation of doors constructed to the size of a solitary confinement cell. A variety of public events and pop-ups will take place throughout the exhibition\, so stay tuned to Rebel Rebel’s Instagram and sign up here for updates via text/email.\nFor questions regarding the exhibition or if you want to schedule a tour/propose an event contact AbolitionNowKY@proton.me.This collaboration is possible\, in part\, through support from Project Pericles and the Department of Women’s\, Gender\, and Sexuality Studies at Berea College at Berea College\, which you can also find on Instagram.\nWe are so excited to see you in Kentucky this March!
URL:https://toddky.com/event/abolition-now-lets-get-free-permanent-collection-exhibit-opening/
LOCATION:Rebel Rebel Studio & Lounge\, 440 Chestnut Street\, Berea\, KY\, 40403\, United States
CATEGORIES:Berea
ATTACH;FMTTYPE=image/jpeg:https://toddky.com/wp-content/uploads/2026/03/632916686_1473109301485515_1677764168651902237_n.jpg
END:VEVENT
BEGIN:VEVENT
DTSTART;TZID=America/Halifax:20260311T173000
DTEND;TZID=America/Halifax:20260425T173000
DTSTAMP:20260420T052814
CREATED:20260312T121855Z
LAST-MODIFIED:20260312T121855Z
UID:14580-1773250200-1777138200@toddky.com
SUMMARY:On The Road To Yellowstone and The Grand Tetons With The Creative Camera Club-Opening Reception
DESCRIPTION:Join us at the Berea Arts Council for the opening reception of On The Road with the Creative Camera Club on Friday\, March 13\, beginning at 5:30 PM. An artist talk will follow at 6 PM.\nThe Creative Camera Club has been an active part of the Lexington arts community for more than 50 years\, bringing together photographers at every stage of their journey\, from beginners just starting to explore the camera to seasoned professionals. This exhibition highlights the spirit of curiosity\, exploration\, and storytelling that defines the club\, featuring work that captures places\, people\, and moments discovered along the way.\nWe hope you will join us for an evening of art\, conversation\, and community as we celebrate the enduring power of photography to connect us and inspire new ways of seeing.
URL:https://toddky.com/event/on-the-road-to-yellowstone-and-the-grand-tetons-with-the-creative-camera-club-opening-reception/
LOCATION:Berea Arts Council\, 444 Chestnut St\, Berea\, KY\, 40403\, United States
CATEGORIES:Berea
ATTACH;FMTTYPE=image/jpeg:https://toddky.com/wp-content/uploads/2026/03/646335749_1346360284202444_1619737692985866776_n-1.jpg
END:VEVENT
BEGIN:VEVENT
DTSTART;TZID=America/Halifax:20260320T200000
DTEND;TZID=America/Halifax:20260328T220000
DTSTAMP:20260420T052814
CREATED:20260316T124832Z
LAST-MODIFIED:20260316T124832Z
UID:14753-1774036800-1774735200@toddky.com
SUMMARY:Murder on the 518
DESCRIPTION:The Spotlight Playhouse\, KY\, 40403Friday\, March 20 2026 – Saturday\, March 28 2026\nBy Michelle Giles\nPresented by: The Bluegrass Players\nRed-eye travelers on the westbound 518 are in for a surprise when first one passenger\, and then another\, mysteriously drop dead right before their eyes! Stranded on a train with a killer on the loose\, this eclectic group of passengers must work together to solve the mystery before they reach the station.\nNot everything—or everyone—is as it seems in this family-friendly murder mystery full of twists\, turns\, and teamwork. With all the usual suspects and plenty of surprises along the way\, audiences will be kept guessing right up until the train pulls into the station.\nDirector John Bailey returns to The Spotlight Playhouse stage following his successful debut directing Marian and Her Merry Men. Under his creative vision\, this thrilling whodunit promises to keep you on the edge of your seat!\nHold on tight—Murder on the 518 is quite the ride!
URL:https://toddky.com/event/murder-on-the-518/
LOCATION:The Spotlight Playhouse\, 214 Richmond Road North\, Berea\, KY\, 40403\, United States
CATEGORIES:Berea
ATTACH;FMTTYPE=image/jpeg:https://toddky.com/wp-content/uploads/2026/03/633758312_1513634054099076_9014259252252464175_n.jpg
END:VEVENT
BEGIN:VEVENT
DTSTART;TZID=America/Halifax:20260327T180000
DTEND;TZID=America/Halifax:20260329T193000
DTSTAMP:20260420T052814
CREATED:20260316T124959Z
LAST-MODIFIED:20260323T083211Z
UID:14757-1774634400-1774812600@toddky.com
SUMMARY:Disney's Frozen Jr.
DESCRIPTION:Performed by Spotlight Acting School Students (Ages 14–18)Journey to the magical kingdom of Arendelle with this enchanting stage adaptation of Disney’s beloved animated film! Frozen JR. brings to life the story of sisters Anna and Elsa as they discover the true meaning of love\, courage\, and family. With memorable characters\, catchy songs like “Let It Go” and “Do You Want to Build a Snowman?”\, and dazzling moments of stage magic\, this musical adventure is a treat for audiences of all ages.Join us as our talented teen performers share a heartwarming tale filled with laughter\, friendship\, and the magic of believing in yourself. Whether you’re a longtime Frozen fan or seeing the story for the first time\, you’ll be swept away by this unforgettable theatrical experience.\nDon’t miss Disney’s Frozen JR.—a story that will melt even the iciest heart!\n PERFORMANCE DATES: Blue Cast: March 20-22 (Fri-Sun) Purple Cast: March 27-29 (Fri-Sun)
URL:https://toddky.com/event/disneys-frozen-jr/
LOCATION:The Spotlight Playhouse\, 214 Richmond Road North\, Berea\, KY\, 40403\, United States
CATEGORIES:Berea
ATTACH;FMTTYPE=image/jpeg:https://toddky.com/wp-content/uploads/2026/03/631659033_1513628654099616_7715932288320147291_n.jpg
END:VEVENT
BEGIN:VEVENT
DTSTART;TZID=America/Halifax:20260327T190000
DTEND;TZID=America/Halifax:20260328T190000
DTSTAMP:20260420T052814
CREATED:20260323T084357Z
LAST-MODIFIED:20260323T084357Z
UID:14937-1774638000-1774724400@toddky.com
SUMMARY:25th Annual Putnam County Spelling Bee
DESCRIPTION:25th Annual Putnam County Spelling BeeMarch 27th-28th @ 7pmMarch 29th @2pm\nRated PG13Madison Southern Auditorium (Berea\, KY)Tickets can be purchased at the doorAdults $15 Students $10
URL:https://toddky.com/event/25th-annual-putnam-county-spelling-bee/
LOCATION:Madison Southern High School\, 279 Glades Road\, Berea\, KY\, 40403\, United States
CATEGORIES:Berea
ATTACH;FMTTYPE=image/jpeg:https://toddky.com/wp-content/uploads/2026/03/651761816_122252497130452154_8337367542465666046_n.jpg
END:VEVENT
BEGIN:VEVENT
DTSTART;TZID=America/Halifax:20260328T080000
DTEND;TZID=America/Halifax:20260328T080000
DTSTAMP:20260420T052814
CREATED:20260223T034708Z
LAST-MODIFIED:20260323T083730Z
UID:13913-1774684800-1774684800@toddky.com
SUMMARY:MSHS FFA Alumni & Supporters Spring Fundraiser-Trash Pick Up
DESCRIPTION:Our spring fundraiser will be trash pickup within the city of Berea. Please meet at Madison Southern side parking lot (next to front entry) at 8:00am for further directions. We welcome parents\, grandparents\, siblings\, and others who simply wish to support and encourage our FFA!
URL:https://toddky.com/event/mshs-ffa-alumni-soup-chili-cook-off-auction/
LOCATION:Madison Southern FFA Alumni & Supporters\, 279 Glades Road\, Berea\, KY\, 40403\, United States
CATEGORIES:Berea
ATTACH;FMTTYPE=image/jpeg:https://toddky.com/wp-content/uploads/2026/02/615766999_122133800024989198_3493708701092619145_n.jpg
END:VEVENT
BEGIN:VEVENT
DTSTART;TZID=America/Halifax:20260328T090000
DTEND;TZID=America/Halifax:20260328T120000
DTSTAMP:20260420T052814
CREATED:20260323T083943Z
LAST-MODIFIED:20260323T083943Z
UID:14933-1774688400-1774699200@toddky.com
SUMMARY:Crushed Glass Easter Decor Craft Party
DESCRIPTION:Let’s celebrate Easter in style! Join us in a super fun Crushed Glass Easter Decor class. You can select from 5 frame designs and decorate them as you please! We offer many varieties and colors of glass for you to choose from.Registration is open! March 28th9am-12pmLocation: Just Love Coffee Cafe\, Berea
URL:https://toddky.com/event/crushed-glass-easter-decor-craft-party/
LOCATION:Just Love Coffee Cafe – Berea\, 636 Chestnut St.\, Berea\, KY\, United States
CATEGORIES:Berea
ATTACH;FMTTYPE=image/jpeg:https://toddky.com/wp-content/uploads/2026/03/642237998_122340978104004129_6904489145105646985_n.jpg
END:VEVENT
BEGIN:VEVENT
DTSTART;TZID=America/Halifax:20260328T093000
DTEND;TZID=America/Halifax:20260328T093000
DTSTAMP:20260420T052814
CREATED:20260323T082940Z
LAST-MODIFIED:20260323T082940Z
UID:14928-1774690200-1774690200@toddky.com
SUMMARY:Speaker/Run with Ultrarunner/Race Director Melissa Londry
DESCRIPTION:Melissa Londry comes to us from SW Virginia. She is an outstanding asset to the trail and ultra communities. Melissa is a mother\, runner\, therapist\, trailsisters & la leche co-leader\, advocate and race director. I am so excited she will be coming to share her experience and advice with us. She participates in alot of races with varying distances\, some including MMTR 100\, Yeti 100\, Dam Yeti 50 and Bryce Canyon 50k. We are super stoked she will also run a few miles with us beginning at GOKY and going to go on blue and alumni trails at Brushy then back.
URL:https://toddky.com/event/speaker-run-with-ultrarunner-race-director-melissa-londry/
LOCATION:Get Outside KY\, 204 Estill Street\, Suite C\, Berea\, KY\, 40403\, United States
CATEGORIES:Berea
ATTACH;FMTTYPE=image/jpeg:https://toddky.com/wp-content/uploads/2026/03/633736370_10234317136683050_1325177701129293552_n.jpg
END:VEVENT
BEGIN:VEVENT
DTSTART;TZID=America/Halifax:20260328T100000
DTEND;TZID=America/Halifax:20260328T130000
DTSTAMP:20260420T052814
CREATED:20260323T082508Z
LAST-MODIFIED:20260323T082508Z
UID:14923-1774692000-1774702800@toddky.com
SUMMARY:John Snell - Workshop
DESCRIPTION:On Saturday\, March 28th\, from 10am-1pm\, Kentucky award-wining photographer John Snell will lead a Photography Workshop entitled “Making Better Photographs” at the Berea Arts Council gallery\, 444 Chestnut St\, Berea\, KY 40403. Cost is $50. Geared for beginner and intermediate level photographers\, and concentrating on nature and landscape photography\, this event will cover general topics relating to making more impactful photos. Specific topics will include composition\, using light to your advantage\, making sharper images\, finding a “picture within a picture\,” photogaphing water\, taking more interesting sunrise/sunset photos and more.
URL:https://toddky.com/event/john-snell-workshop/
LOCATION:Berea Arts Council\, 444 Chestnut St\, Berea\, KY\, 40403\, United States
CATEGORIES:Berea
ATTACH;FMTTYPE=image/jpeg:https://toddky.com/wp-content/uploads/2026/03/633462180_1327208972784242_36750693352860441_n.jpg
END:VEVENT
BEGIN:VEVENT
DTSTART;TZID=America/Halifax:20260328T123000
DTEND;TZID=America/Halifax:20260328T123000
DTSTAMP:20260420T052814
CREATED:20260323T081854Z
LAST-MODIFIED:20260323T081854Z
UID:14920-1774701000-1774701000@toddky.com
SUMMARY:Seussical the Musical Auditions (Ages 14-18)
DESCRIPTION: AUDITION ANNOUNCEMENT Seussical the MusicalPresented by Spotlight Acting SchoolFor Ages: 14–18\n Audition Date & Time: Friday\, March 28 — 12:30 PM Location: The Spotlight Playhouse\, Berea\, KY\nBEREA\, KY – Spotlight Acting School invites students ages 14–18 to audition for Seussical the Musical\, a fun and imaginative show filled with your favorite Dr. Seuss characters! Seussical brings together Horton the Elephant\, The Cat in the Hat\, JoJo\, Gertrude McFuzz\, Mayzie La Bird\, and the Whos in one colorful stage adventure.\nThis musical is packed with music\, movement\, heart\, and humor — a wonderful chance for young performers to sing\, act\, and have fun on stage!\nEveryone who auditions will be cast!All experience levels are welcome — whether you’re new to the stage or a returning performer.\nKey Details:Who Can Audition: Ages 14–18\nAudition Process / What to Prepare:\nSing a short section of a songWear comfortable clothes for movement and group activitiesBring energy\, creativity\, and a positive attitudeRehearsals:\nBlue Cast: Saturdays at 12:30 PMPurple Cast: Saturdays at 2:00 PMNo rehearsals: July 11 and July 18Attendance Policy:Actors may miss up to two additional rehearsals without prior arrangement. If more absences occur\, a role may be reassigned.\nPerformance Dates:\nBlue Cast: July 31 – August 2Purple Cast: August 7 – 9Tuition & Financial Aid (Important):\nTuition: $105/monthSibling Discounts: 2nd child 20% off\, 3rd child 80% off\, 4th+ freeDiscounts you can stack: Autopay (-$10)\, Prepay (-$10)\, Loyalty (-$10)Costume Fee: $30 (due at audition)Financial Aid: Available upon requestAbout the Show:From the Jungle of Nool to Whoville and the Circus McGurkus\, Seussical takes audiences on a magical journey through the world of Dr. Seuss. With lively songs and memorable characters\, the show celebrates friendship\, loyalty\, and the power of imagination.\nFor questions or more info\, contact chad@spotlightactingschool.com or call 859-756-0011.
URL:https://toddky.com/event/seussical-the-musical-auditions-ages-14-18/
LOCATION:The Spotlight Playhouse\, 214 Richmond Road North\, Berea\, KY\, 40403\, United States
CATEGORIES:Berea
ATTACH;FMTTYPE=image/jpeg:https://toddky.com/wp-content/uploads/2026/03/652593066_1551730713539879_6307607298403089674_n.jpg
END:VEVENT
BEGIN:VEVENT
DTSTART;TZID=America/Halifax:20260328T130000
DTEND;TZID=America/Halifax:20260328T130000
DTSTAMP:20260420T052814
CREATED:20260309T142545Z
LAST-MODIFIED:20260323T082639Z
UID:14530-1774702800-1774702800@toddky.com
SUMMARY:Group Hike at the Pinnacles
DESCRIPTION:Have you explored all of the Berea College Forest? Maybe you have but you’d like to learn more while you do?\nJoin us for a group hike every Saturday to experience the wonders the forest has to offer.\nPlease bring water and wear appropriate clothing for hiking. The destination will be decided by the group. All trails have uneven terrain and have at least moderate elevation gain.\nMeet at the Forestry Outreach Center. Check out maps and trail information here: https://forestryoutreach.berea.edu/trails/the-pinnacles
URL:https://toddky.com/event/group-hike-at-the-pinnacles-2/
LOCATION:Berea College Forestry Outreach Center\, 2047 Big Hill Road\, Berea\, KY\, 40403-9020\, United States
CATEGORIES:Berea
ATTACH;FMTTYPE=image/jpeg:https://toddky.com/wp-content/uploads/2026/03/644825862_1632768828502355_8590578460656798688_n.jpg
END:VEVENT
BEGIN:VEVENT
DTSTART;TZID=America/Halifax:20260328T130000
DTEND;TZID=America/Halifax:20260328T180000
DTSTAMP:20260420T052814
CREATED:20260316T111711Z
LAST-MODIFIED:20260316T111711Z
UID:14707-1774702800-1774720800@toddky.com
SUMMARY:Easter Mini Season
DESCRIPTION:Easter Mini Session 3/28/2026Brushy Fork Park in Berea\, KySign up now and save your spot\, only $100.00 15min session\, Includes 5 curated poses\, an edited private online gallery\, and 2 free photo digital downloads of your choice!(click the link to sign up) https://JasonSwinneyPhotography.pixieset.com/…/easter…
URL:https://toddky.com/event/easter-mini-season/
LOCATION:Brushy Fork Park Berea Ky\, 450 Scaffold Cane Road\, Berea\, KY\, 40403-2257\, United States
CATEGORIES:Berea
ATTACH;FMTTYPE=image/jpeg:https://toddky.com/wp-content/uploads/2026/03/650609522_122125221951011701_2981559527456005573_n.jpg
END:VEVENT
BEGIN:VEVENT
DTSTART;TZID=America/Halifax:20260328T140000
DTEND;TZID=America/Halifax:20260328T140000
DTSTAMP:20260420T052814
CREATED:20260326T123815Z
LAST-MODIFIED:20260326T123815Z
UID:15022-1774706400-1774706400@toddky.com
SUMMARY:Spring into wellness & Style!
DESCRIPTION:Taylor Ruth from Clark infusion Clonic will be providing Lipo & B12 injections – also NAD injections.
URL:https://toddky.com/event/spring-into-wellness-style/
LOCATION:The YaYa Society\, 111 Haiti Road\, Berea\, KY\, 40403-1674\, United States
CATEGORIES:Berea
ATTACH;FMTTYPE=image/jpeg:https://toddky.com/wp-content/uploads/2026/03/657533769_1562572179209977_8574920606010706227_n.jpg
END:VEVENT
END:VCALENDAR