BEGIN:VCALENDAR
VERSION:2.0
PRODID:-// Your REALTOR® Devin - ECPv6.15.20//NONSGML v1.0//EN
CALSCALE:GREGORIAN
METHOD:PUBLISH
X-ORIGINAL-URL:https://toddky.com
X-WR-CALDESC:Events for  Your REALTOR® Devin
REFRESH-INTERVAL;VALUE=DURATION:PT1H
X-Robots-Tag:noindex
X-PUBLISHED-TTL:PT1H
BEGIN:VTIMEZONE
TZID:America/Halifax
BEGIN:DAYLIGHT
TZOFFSETFROM:-0400
TZOFFSETTO:-0300
TZNAME:ADT
DTSTART:20250309T060000
END:DAYLIGHT
BEGIN:STANDARD
TZOFFSETFROM:-0300
TZOFFSETTO:-0400
TZNAME:AST
DTSTART:20251102T050000
END:STANDARD
BEGIN:DAYLIGHT
TZOFFSETFROM:-0400
TZOFFSETTO:-0300
TZNAME:ADT
DTSTART:20260308T060000
END:DAYLIGHT
BEGIN:STANDARD
TZOFFSETFROM:-0300
TZOFFSETTO:-0400
TZNAME:AST
DTSTART:20261101T050000
END:STANDARD
BEGIN:DAYLIGHT
TZOFFSETFROM:-0400
TZOFFSETTO:-0300
TZNAME:ADT
DTSTART:20270314T060000
END:DAYLIGHT
BEGIN:STANDARD
TZOFFSETFROM:-0300
TZOFFSETTO:-0400
TZNAME:AST
DTSTART:20271107T050000
END:STANDARD
END:VTIMEZONE
BEGIN:VEVENT
DTSTART;TZID=America/Halifax:20260424T180000
DTEND;TZID=America/Halifax:20260426T190000
DTSTAMP:20260420T052817
CREATED:20260420T074911Z
LAST-MODIFIED:20260420T074911Z
UID:15684-1777053600-1777230000@toddky.com
SUMMARY:Disney's Finding Nemo KIDS
DESCRIPTION:The Spotlight Playhouse\, KY\, 40403Friday\, April 24 2026 – Sunday\, April 26 2026\nPerformed by Spotlight Acting School Students (Ages 4–11)\nDive into the colorful underwater world of Disney and Pixar’s Finding Nemo KIDS!  This delightful musical follows the unforgettable journey of Marlin and his adventurous son\, Nemo\, as they navigate the wonders and dangers of the ocean. Along the way\, they meet memorable characters like the friendly Dory\, the laid-back sea turtles \, and a host of sea creatures  who help them discover the true meaning of family\, courage\, and friendship.\nFilled with catchy songs \, lively characters\, and plenty of heart\, Finding Nemo KIDS is a perfect introduction to live theater for young audiences and families alike. Join us as our talented young performers bring this beloved story to life on stage with energy and excitement.\nDon’t miss the adventure—come swim with us under the sea! 
URL:https://toddky.com/event/disneys-finding-nemo-kids/
LOCATION:The Spotlight Playhouse\, 214 Richmond Road North\, Berea\, KY\, 40403\, United States
CATEGORIES:Berea
ATTACH;FMTTYPE=image/jpeg:https://toddky.com/wp-content/uploads/2026/04/633322818_1513647820764366_698586977759723605_n.jpg
END:VEVENT
BEGIN:VEVENT
DTSTART;TZID=America/Halifax:20260424T193000
DTEND;TZID=America/Halifax:20260426T193000
DTSTAMP:20260420T052817
CREATED:20260420T080409Z
LAST-MODIFIED:20260420T080409Z
UID:15698-1777059000-1777231800@toddky.com
SUMMARY:23rd Hands Four Spring Dance
DESCRIPTION:23rd Hands Four Spring DanceApril 24-26\, 2026Terry Doyle & Drive Train\n\n\nBerea\, Kentucky
URL:https://toddky.com/event/23rd-hands-four-spring-dance/
LOCATION:Russel Action Folk Center\, 212 W Jefferson St\, Berea\, Kentucky\, 40403
CATEGORIES:Berea
ATTACH;FMTTYPE=image/jpeg:https://toddky.com/wp-content/uploads/2026/04/497730647_10235459031911521_4613195071101479437_n.jpg
END:VEVENT
BEGIN:VEVENT
DTSTART;TZID=America/Halifax:20260426T140000
DTEND;TZID=America/Halifax:20260426T140000
DTSTAMP:20260420T052817
CREATED:20260420T070921Z
LAST-MODIFIED:20260420T070921Z
UID:15662-1777212000-1777212000@toddky.com
SUMMARY:Fishers of men at Narrow Way Church of God In Jesus Name
DESCRIPTION:April 26th fishers of men group will be coming and singing and ministry at Narrow Way Church Of God In Jesus Name being in the lords will. Everyone that can clear your calendars and come be with us! Looking for a wonderful time in the lord and seeing the great things that God will do
URL:https://toddky.com/event/fishers-of-men-at-narrow-way-church-of-god-in-jesus-name/
LOCATION:Narrow way church of God in Jesus name\, 10407 battlefield Memorial Hwy\, Berea\, KY\, United States
CATEGORIES:Berea
ATTACH;FMTTYPE=image/jpeg:https://toddky.com/wp-content/uploads/2026/04/626925843_122157692774852632_3403691489162883808_n.jpg
END:VEVENT
BEGIN:VEVENT
DTSTART;TZID=America/Halifax:20260426T140000
DTEND;TZID=America/Halifax:20260426T150000
DTSTAMP:20260420T052817
CREATED:20260420T065402Z
LAST-MODIFIED:20260420T065402Z
UID:15641-1777212000-1777215600@toddky.com
SUMMARY:Family Activity: Bug Hotels
DESCRIPTION:Learn how to make “bug hotels”–places that bugs can go to get out of the weather\, lay eggs\, or overwinter! They can be as simple or as complex as you’d like\, there’s many different methods. We will used upcycled and natural materials.\nGeared towards elementary ages but all welcome.\nCancelled in case of rain/high winds.
URL:https://toddky.com/event/family-activity-bug-hotels/
LOCATION:Berea College Forestry Outreach Center\, 2047 Big Hill Road\, Berea\, KY\, 40403-9020\, United States
CATEGORIES:Berea
ATTACH;FMTTYPE=image/jpeg:https://toddky.com/wp-content/uploads/2026/04/669546485_1673983691047535_5585256561507423446_n.jpg
END:VEVENT
BEGIN:VEVENT
DTSTART;TZID=America/Halifax:20260426T140000
DTEND;TZID=America/Halifax:20260426T160000
DTSTAMP:20260420T052817
CREATED:20260420T075459Z
LAST-MODIFIED:20260420T075459Z
UID:15687-1777212000-1777219200@toddky.com
SUMMARY:American Mah Jonng Beginner Class
DESCRIPTION:Location: 204 North Broadway (Broadway Center Building) in the Mahj & Mingle Clubhouse – Suite 50 – parking lot for rear entrance located on Washington Ave.\nTime and Date: Sunday April 26\, 2026 2-4pm.\nWhat to bring: drinks/snacks for yourself or to share if you like. All items for play provided.\nCost: Suggested $5\, not required to join\nRule set: National Mah Jongg League (NMJL)\nPLEASE RSVP AS SPACE IS LIMITED TO 24 GUESTS.
URL:https://toddky.com/event/american-mah-jonng-beginner-class/
LOCATION:Broadway Center\, 204 N Broadway St\, Berea\, KY\, 40403-1962\, United States
CATEGORIES:Berea
ATTACH;FMTTYPE=image/jpeg:https://toddky.com/wp-content/uploads/2026/04/668430935_122121542079240434_1031082609495798313_n.jpg
END:VEVENT
END:VCALENDAR